Workbook

Sheet صورت وضعیت
A1: صندوق سرمایه‌گذاری گنجینه یکم آوید
A2: صورت وضعیت پرتفوی
A3: برای ماه منتهی به 1405/06/31

Sheet سهام
A1: صندوق سرمایه‌گذاری گنجینه یکم آوید
A2: صورت وضعیت پرتفوی
A3: برای ماه منتهی به 1405/06/31
A4: -1 | B4: سرمایه گذاری ها
A5: -1-1 | C5: سرمایه گذاری در سهام و حق تقدم سهام
F6: 1405/05/31 | L6: تغییرات طی دوره | T6: 1405/06/31
L7: خرید طی دوره | P7: فروش طی دوره
A8: نام شرکت | E8: تعداد | H8: بهای تمام شده | J8: خالص ارزش فروش | L8: تعداد | N8: بهای تمام شده | P8: تعداد | R8: مبلغ فروش | T8: تعداد | V8: قیمت بازار هر سهم | X8: بهای تمام شده | Z8: خالص ارزش فروش | AB8: درصد به کل دارایی ها
A9: احیا استیل فولاد بافت | E9: 10666000 | H9: 35825573023 | J9: 4.4133411e+10 | L9: 0 | N9: 0 | P9: 0 | R9: 0 | T9: 10666000 | V9: 4700 | X9: 35825573023 | Z9: 49742693554 | AB9: 0.07
A10: بانک ملت | E10: 112475463 | H10: 109811516006 | J10: 1.5278865e+11 | L10: 38694975 | N10: 59861402137 | P10: 0 | R10: 0 | T10: 151170438 | V10: 1439 | X10: 169672918143 | Z10: 2.1585272e+11 | AB10: 0.3
A11: پالایش نفت اصفهان | E11: 5238672 | H11: 30719840741 | J11: 5.8739401e+10 | L11: 3396358 | N11: 48804500963 | P11: 0 | R11: 0 | T11: 8635030 | V11: 12380 | X11: 79524341704 | Z11: 1.0607532e+11 | AB11: 0.15
A12: پالایش نفت بندرعباس | E12: 6700000 | H12: 58083444820 | J12: 80110918450 | L12: 1976789 | N12: 29968674105 | P12: 0 | R12: 0 | T12: 8676789 | V12: 14690 | X12: 88052118925 | Z12: 1.2647675e+11 | AB12: 0.18
A13: پالایش نفت تهران | E13: 7000000 | H13: 25264184172 | J13: 37994018300 | L13: 0 | N13: 0 | P13: 0 | R13: 0 | T13: 7000000 | V13: 6370 | X13: 25264184172 | Z13: 44245319300 | AB13: 0.06
A14: پاکدیس | E14: 2100000 | H14: 29225067156 | J14: 25838710800 | L14: 0 | N14: 0 | P14: 0 | R14: 0 | T14: 2100000 | V14: 11660 | X14: 29225067156 | Z14: 24296723220 | AB14: 0.03
A15: پاکسان‌ | E15: 2234831 | H15: 5086756261 | J15: 5.3221338e+09 | L15: 0 | N15: 0 | P15: -1800000 | R15: 4273157169 | T15: 434831 | V15: 2530 | X15: 989730013 | Z15: 1.0916185e+09 | AB15: 0
A16: پتروشیمی اروند | E16: 980000 | H16: 49926448925 | J16: 46481895880 | L16: 0 | N16: 0 | P16: 0 | R16: 0 | T16: 980000 | V16: 55670 | X16: 49926448925 | Z16: 54134877482 | AB16: 0.08
A17: پتروشیمی بوعلی سینا | E17: 800000 | H17: 29309873590 | J17: 30276142240 | L17: 0 | N17: 0 | P17: 0 | R17: 0 | T17: 800000 | V17: 59510 | X17: 29309873590 | Z17: 47239990160 | AB17: 0.07
A18: پتروشیمی پردیس | E18: 1245721 | H18: 20021194745 | J18: 1.2966601e+10 | L18: 2254076 | N18: 29909320798 | P18: 0 | R18: 0 | T18: 3499797 | V18: 13430 | X18: 49930515543 | Z18: 4.6638946e+10 | AB18: 0.07
A19: پتروشیمی نوری | E19: 940646 | H19: 30052665894 | J19: 3.209876e+10 | L19: 0 | N19: 0 | P19: 0 | R19: 0 | T19: 940646 | V19: 51160 | X19: 30052665894 | Z19: 4.7751455e+10 | AB19: 0.07
A20: پتروشیمی‌شیراز | E20: 1000000 | H20: 46125150214 | J20: 60796382900 | L20: 1080902 | N20: 79277605601 | P20: -1000000 | R20: 66650776250 | T20: 1080902 | V20: 70020 | X20: 79277605601 | Z20: 7.5099715e+10 | AB20: 0.11
... A64: تولید نیروی برق سبز منجیل | E64: 0 | H64: 0 | J64: 0 | L64: 1125000 | N64: 20641933350 | P64: 0 | R64: 0 | T64: 1125000 | V64: 28680 | X64: 20641933350 | Z64: 32015591550 | AB64: 0.05
A65: جمع | H65: 1589369371347 | J65: 2.02312e+12 | N65: 1446271032545 | R65: 85491709823 | X65: 2973318342285 | Z65: 3.6306905e+12 | AB65: 5.15

Sheet اوراق مشتقه
A1: صندوق سرمایه‌گذاری گنجینه یکم آوید
A2: صورت وضعیت پرتفوی
A3: برای ماه منتهی به 1405/06/31
A5: اطلاعات آماری مرتبط با اوراق اختیار فروش تبعی خریداری شده توسط صندوق سرمایه گذاری:
I6: 1405/05/31 | AC6: 1405/06/31
A8: نام سهام | I8: تعداد اوراق تبعی | M8: قیمت اعمال | Q8: تاریخ اعمال | W8: نرخ سود موثر | AC8: تعداد اوراق تبعی | AI8: قیمت اعمال | AM8: تاریخ اعمال | AQ8: نرخ سود موثر
A9: اختيارف.ت.هرمز-2324-060218 | I9: 303003995 | M9: 2231 | Q9: 1406/02/18 | W9: 0.25741355 | AC9: 303003995 | AI9: 2231 | AM9: 1406/02/18 | AQ9: 0.25741355
A10: اختیارف.ت.دقاضی-28289-0606 | I10: 0 | M10: 0 | W10: 0 | AC10: 45953770 | AI10: 28289 | AM10: 1406/06/15 | AQ10: 0.29590709
A11: اطلاعات آماری مرتبط با موقعیت های اخذ شده در اوراق اختیار معامله توسط صندوق سرمایه گذاری:
C12: 1405/05/31 | Y12: 1405/06/31
A13: نام سهام | C13: نوع اختیار | E13: نوع موقعیت | G13: استراتژی ماخوذه | K13: تعداد اوراق | O13: قیمت اعمال | S13: تاریخ اعمال | Y13: نوع اختیار | AE13: نوع موقعیت | AK13: استراتژی ماخوذه | AO13: تعداد اوراق | AS13: قیمت اعمال | AV13: تاریخ اعمال
A14: اختيارخ.ت.هرمز-2377-060318 | C14: اختیار خرید | E14: موقعیت فروش | G14: - | K14: 325379674 | O14: 2284 | S14: 1406/03/18 | Y14: اختیار خرید | AE14: موقعیت فروش | AK14: - | AO14: 325379674 | AS14: 2284 | AV14: 1406/03/18
A15: اختیارخ.ت.دقاضی-26732-0607 | C15: اختیار خرید | E15: - | G15: - | K15: 0 | O15: 0 | S15: - | Y15: اختیار خرید | AE15: موقعیت فروش | AK15: - | AO15: 45953770 | AS15: 28927 | AV15: 1406/07/18
A16: اطلاعات آماری مرتبط با قراردادهای آتی توسط صندوق سرمایه گذاری:
C17: 1405/05/31 | O17: 1405/06/31
A18: نام سهام | C18: نوع موقعیت | E18: تعداد اوراق | G18: قیمت اعمال | K18: تاریخ اعمال | O18: نوع موقعیت | U18: تعداد اوراق | AA18: قیمت اعمال | AG18: تاریخ اعمال

Sheet واحدهای صندوق
A1: صندوق سرمایه‌گذاری گنجینه یکم آوید
A2: صورت وضعیت پرتفوی
A3: برای ماه منتهی به 1405/06/31
A5: -2-1 | B5: سرمایه‌گذاری در واحدهای صندوق های سرمایه گذاری
E6: 1405/05/31 | K6: تغییرات طی دوره | S6: 1405/06/31
K7: خرید/صدور طی دوره | O7: فروش/ابطال طی دوره
A8: صندوق | D8: تعداد واحد | G8: بهای تمام شده | I8: خالص ارزش فروش | K8: تعداد | M8: بهای تمام شده | O8: تعداد | Q8: مبلغ فروش | S8: تعداد | U8: قیمت ابطال / بازار هر واحد | W8: بهای تمام شده | Y8: خالص ارزش فروش | AA8: درصد به کل دارایی ها
A9: صندوق پالایشی یکم-سهام | D9: 115000 | G9: 29612310475 | I9: 5.883625e+10 | K9: 0 | M9: 0 | O9: 0 | Q9: 0 | S9: 115000 | U9: 583473 | W9: 29612310475 | Y9: 6.6945066e+10 | AA9: 0.09
A10: صندوق س صنایع آروین1-بخشی | D10: 15335408 | G10: 159999992587 | I10: 1.7426856e+11 | K10: 0 | M10: 0 | O10: 0 | Q10: 0 | S10: 15335408 | U10: 12005 | W10: 159999992587 | Y10: 1.8367814e+11 | AA10: 0.26
A11: صندوق س. مشترک امین آوید-س | D11: 17680000 | G11: 174196640120 | I11: 292072125488 | K11: 0 | M11: 0 | O11: 0 | Q11: 0 | S11: 17680000 | U11: 19152 | W11: 174196640120 | Y11: 337828563072 | AA11: 0.48
A12: صندوق س.بخشی صنایع پاداش-ب | D12: 3600000 | G12: 69635982585 | I12: 77286630960 | K12: 0 | M12: 0 | O12: 0 | Q12: 0 | S12: 3600000 | U12: 26498 | W12: 69635982585 | Y12: 95173396560 | AA12: 0.13
A13: صندوق س.بخشی کیان3-ب | D13: 5000000 | G13: 50112250000 | I13: 49885000000 | K13: 0 | M13: 0 | O13: 0 | Q13: 0 | S13: 5000000 | U13: 10120 | W13: 50112250000 | Y13: 50483620000 | AA13: 0.07
A14: صندوق س.پشتوانه طلای پاداش | D14: 10000000 | G14: 100120000000 | I14: 189682108000 | K14: 0 | M14: 0 | O14: 0 | Q14: 0 | S14: 10000000 | U14: 21108 | W14: 100120000000 | Y14: 210826704000 | AA14: 0.3
A15: صندوق س.دی سهام-سهام | D15: 5338755 | G15: 99999989270 | I15: 1.2441582e+11 | K15: 0 | M15: 0 | O15: 0 | Q15: 0 | S15: 5338755 | U15: 27469 | W15: 99999989270 | Y15: 1.4631297e+11 | AA15: 0.21
A16: صندوق س.كالاي زمرد بيدار | D16: 2895076 | G16: 69999984701 | I16: 8.3740791e+10 | K16: 0 | M16: 0 | O16: 0 | Q16: 0 | S16: 2895076 | U16: 32720 | W16: 69999984701 | Y16: 9.4613214e+10 | AA16: 0.13
A17: صندوق س.مبتنی بر کالای فارابی | D17: 2395638 | G17: 39999997284 | I17: 4.4971985e+10 | K17: 0 | M17: 0 | O17: 0 | Q17: 0 | S17: 2395638 | U17: 21386 | W17: 39999997284 | Y17: 5.1171635e+10 | AA17: 0.07
A18: صندوق س.کالای پاداش1 | D18: 4994000 | G18: 49999928000 | I18: 49880072000 | K18: 0 | M18: 0 | O18: 0 | Q18: 0 | S18: 4994000 | U18: 10230 | W18: 49999928000 | Y18: 51027313656 | AA18: 0.07
A19: صندوق سرمایه گذاری طلای نور امین | D19: 14482958 | G19: 149999996006 | I19: 162513251718 | K19: 0 | M19: 0 | O19: 0 | Q19: 0 | S19: 14482958 | U19: 13520 | W19: 149999996006 | Y19: 195809572160 | AA19: 0.28
A20: جمع | G20: 993677071028 | I20: 1.3075526e+12 | K20: 0 | M20: 0 | O20: 0 | Q20: 0 | W20: 993677071028 | Y20: 1.4838702e+12 | AA20: 2.09

Sheet اوراق
A1: صندوق سرمایه‌گذاری گنجینه یکم آوید
A2: صورت وضعیت پرتفوی
A3: برای ماه منتهی به 1405/06/31
A5: -3-1 | B5: سرمایه‌گذاری در اوراق بهادار با درآمد ثابت یا علی‌الحساب
A6: اطلاعات اوراق با درآمد ثابت | P6: 1405/05/31 | V6: تغییرات طی دوره | AD6: 1405/06/31
V7: خرید طی دوره | Z7: فروش طی دوره
A8: نام اوراق | D8: دارای مجوز از سازمان | F8: پذیرفته شده در بورس یا فرابورس | H8: تاریخ انتشار اوراق | J8: تاریخ سررسید | L8: نرخ سود اسمی | N8: نرخ سود موثر | P8: تعداد | R8: بهای تمام شده | T8: خالص ارزش فروش | V8: تعداد | X8: بهای تمام شده | Z8: تعداد | AB8: مبلغ فروش | AD8: تعداد | AF8: قیمت بازار هر سهم | AH8: بهای تمام شده | AJ8: خالص ارزش فروش | AL8: درصد به کل دارایی ها
A9: اسنادخزانه-م4بودجه02-051021 | D9: بله | F9: بله | H9: 1402/12/15 | J9: 1405/10/21 | L9: 0 | N9: 0 | P9: 534464 | R9: 304661652832 | T9: 466344048747 | V9: 0 | X9: 0 | Z9: 0 | AB9: 0 | AD9: 534464 | AF9: 896210 | AH9: 304661652832 | AJ9: 478731529550 | AL9: 0.68
A10: صکوک اجاره تاصیکو810-بدون ضامن | D10: بله | F10: بله | H10: 1404/10/16 | J10: 1408/10/16 | L10: 26 | N10: 26 | P10: 2000000 | R10: 2000000000000 | T10: 1799021250000 | V10: 0 | X10: 0 | Z10: 0 | AB10: 0 | AD10: 2000000 | AF10: 900000 | AH10: 2000000000000 | AJ10: 1799021250000 | AL10: 2.54
A11: صکوک مرابحه دابور92-3ماهه23% | D11: بله | F11: بله | H11: 1405/02/09 | J11: 1409/02/09 | L11: 23 | N11: 23 | P11: 1000000 | R11: 1000000000000 | T11: 899510625000 | V11: 0 | X11: 0 | Z11: 0 | AB11: 0 | AD11: 1000000 | AF11: 900000 | AH11: 1000000000000 | AJ11: 899510625000 | AL11: 1.27
A12: صکوک مرابحه دارو901-بدون ضامن | D12: بله | F12: بله | H12: 1405/01/08 | J12: 1409/01/08 | L12: 23 | N12: 23 | P12: 2000000 | R12: 2000000000000 | T12: 1799021250000 | V12: 0 | X12: 0 | Z12: 0 | AB12: 0 | AD12: 2000000 | AF12: 900000 | AH12: 2000000000000 | AJ12: 1799021250000 | AL12: 2.54
A13: صکوک مرابحه دارو904-3ماهه23% | D13: بله | F13: بله | H13: 1405/04/28 | J13: 1409/04/28 | L13: 23 | N13: 23 | P13: 2000000 | R13: 2000000000000 | T13: 1799021250000 | V13: 0 | X13: 0 | Z13: 0 | AB13: 0 | AD13: 2000000 | AF13: 900000 | AH13: 2000000000000 | AJ13: 1799021250000 | AL13: 2.54
A14: مرابحه پارس میکاکیش060708 | D14: بله | F14: بله | H14: 1402/07/08 | J14: 1406/07/08 | L14: 23 | N14: 23 | P14: 480000 | R14: 480015238095 | T14: 479739000000 | V14: 0 | X14: 0 | Z14: 0 | AB14: 0 | AD14: 480000 | AF14: 900000 | AH14: 480015238095 | AJ14: 431765100000 | AL14: 0.61
A15: مرابحه داروسازی داناامین090520 | D15: بله | F15: بله | H15: 1405/05/20 | J15: 1409/05/20 | L15: 23 | N15: 23 | P15: 4000000 | R15: 4000000000000 | T15: 3946728798675 | V15: 0 | X15: 0 | Z15: 1000000 | AB15: 999523750000 | AD15: 3000000 | AF15: 992027 | AH15: 3000000000000 | AJ15: 2974462755956 | AL15: 4.2
A16: مرابحه داروسازی شهیدقاضی070917 | D16: بله | F16: بله | H16: 1403/09/17 | J16: 1407/09/17 | L16: 23 | N16: 23 | P16: 1000000 | R16: 1000020000000 | T16: 899510625000 | V16: 0 | X16: 0 | Z16: 0 | AB16: 0 | AD16: 1000000 | AF16: 900000 | AH16: 1000020000000 | AJ16: 899510625000 | AL16: 1.27
A17: مرابحه س. و توسعه کیش14050724 | D17: بله | F17: بله | H17: 1401/07/24 | J17: 1405/07/24 | L17: 18 | N17: 18 | P17: 800000 | R17: 800020000000 | T17: 719608500000 | V17: 0 | X17: 0 | Z17: 0 | AB17: 0 | AD17: 800000 | AF17: 900000 | AH17: 800020000000 | AJ17: 719608500000 | AL17: 1.02
A18: مرابحه عام دولت186-ش.خ051124 | D18: بله | F18: بله | H18: 1403/07/24 | J18: 1405/11/24 | L18: 23 | N18: 23 | P18: 625000 | R18: 558413973858 | T18: 592606344992 | V18: 0 | X18: 0 | Z18: 0 | AB18: 0 | AD18: 625000 | AF18: 957344 | AH18: 558413973858 | AJ18: 598014652625 | AL18: 0.84
A19: مرابحه عام دولت223-ش.خ070431 | D19: بله | F19: بله | H19: 1404/04/31 | J19: 1407/04/31 | L19: 23 | N19: 23 | P19: 209000 | R19: 192041333500 | T19: 176556179347 | V19: 0 | X19: 0 | Z19: 0 | AB19: 0 | AD19: 209000 | AF19: 850617 | AH19: 192041333500 | AJ19: 177682285694 | AL19: 0.25
A20: مرابحه عام دولت232-ش.خ070725 | D20: بله | F20: بله | H20: 1404/06/25 | J20: 1407/07/25 | L20: 23 | N20: 23 | P20: 1079237 | R20: 995768810420 | T20: 901183089203 | V20: 0 | X20: 0 | Z20: 0 | AB20: 0 | AD20: 1079237 | AF20: 839788 | AH20: 995768810420 | AJ20: 905837464665 | AL20: 1.28
... A31: شهرداری مشهد | D31: خیر | F31: خیر | H31: 1405/02/31 | J31: 1409/02/31 | L31: 23 | N31: 23 | P31: 0 | R31: 0 | T31: 0 | V31: 5500000 | X31: 5500000000000 | Z31: 0 | AB31: 0 | AD31: 5500000 | AF31: 1000000 | AH31: 5500000000000 | AJ31: 5500000000000 | AL31: 7.77
A32: جمع | R32: 31579401905610 | T32: 30085278738860 | X32: 6000234375000 | AB32: 999523750000 | AH32: 36579636280610 | AJ32: 34847727971801 | AL32: 49.24

Sheet تعدیل قیمت
A1: صندوق سرمایه‌گذاری گنجینه یکم آوید
A2: صورت وضعیت پرتفوی
A3: برای ماه منتهی به 1405/06/31
A4: اوراق بهاداری که ارزش آنها در تاریخ گزارش تعدیل شده
A5: (بر اساس دستورالعمل نحوه تعیین قیمت خرید و فروش اوراق بهادار در صندوق های سرمایه گذاری)
C7: 1405/06/31
A8: نام اوراق بهادار | C8: تعداد | E8: قیمت پایانی | G8: قیمت تعدیل شده | I8: درصد تعدیل | K8: خالص ارزش فروش تعدیل شده | M8: دلیل تعدیل
A9: مرابحه س. و توسعه کیش14050724 | C9: 800000 | E9: 1000000 | G9: 900000 | I9: -10.00% | K9: 719608500000 | M9: سایر
A10: مرابحه پارس میکاکیش060708 | C10: 480000 | E10: 1000000 | G10: 900000 | I10: -10.00% | K10: 431765100000 | M10: سایر
A11: مرابحه عام دولت186-ش.خ051124 | C11: 625000 | E11: 952000 | G11: 957344 | I11: 0.56% | K11: 598014652625 | M11: سایر
A12: مرابحه داروسازی شهیدقاضی070917 | C12: 1000000 | E12: 1000000 | G12: 900000 | I12: -10.00% | K12: 899510625000 | M12: سایر
A13: مرابحه عام دولت223-ش.خ070431 | C13: 209000 | E13: 825000 | G13: 850617 | I13: 3.11% | K13: 177682285694 | M13: سایر
A14: صکوک اجاره فارس086-بدون ضامن | C14: 500000 | E14: 1000000 | G14: 900000 | I14: -10.00% | K14: 449755312500 | M14: سایر
A15: مرابحه عام دولت232-ش.خ070725 | C15: 1079237 | E15: 809950 | G15: 839788 | I15: 3.68% | K15: 905837464665 | M15: سایر
A16: مرابحه عام دولت234-ش.خ070808 | C16: 2682862 | E16: 833960 | G16: 750564 | I16: -10.00% | K16: 2012564706741 | M16: سایر
A17: مرابحه عام دولت235-ش.خ060915 | C17: 1400000 | E17: 869000 | G17: 895258 | I17: 3.02% | K17: 1252679684847 | M17: سایر
A18: مرابحه عام دولت248-ش.خ060727 | C18: 610000 | E18: 886750 | G18: 900593 | I18: 1.56% | K18: 549063014559 | M18: سایر
A19: مرابحه عام دولت254-ش.خ070911 | C19: 2706888 | E19: 781900 | G19: 825721 | I19: 5.60% | K19: 2233918911990 | M19: سایر
A20: صکوک اجاره تاصیکو810-بدون ضامن | C20: 2000000 | E20: 1000000 | G20: 900000 | I20: -10.00% | K20: 1799021250000 | M20: سایر
... A29: مرابحه داروسازی داناامین090520 | C29: 3000000 | E29: 1000000 | G29: 992027 | I29: -0.80% | K29: 2974462755956 | M29: سایر
A30: جمع | K30: =SUM(K9:K29) -> 28868996442251

Sheet سپرده
A1: صندوق سرمایه‌گذاری گنجینه یکم آوید
A2: صورت وضعیت پرتفوی
A3: برای ماه منتهی به 1405/06/31
A5: -4-1 | B5: سرمایه‌گذاری در سپرده‌ بانکی
D6: 1405/05/31 | F6: تغییرات طی دوره | J6: 1405/06/31
A8: سپرده های بانکی | D8: مبلغ | F8: افزایش | H8: کاهش | J8: مبلغ | L8: درصد به کل دارایی ها
A9: سپرده بانک ملی | D9: 1297000 | F9: 0 | H9: 0 | J9: 1297000 | L9: 0
A10: سپرده بانک دی | D10: 2413066204825 | E10: 0 | F10: 1587134546838 | G10: 0 | H10: 2617105160000 | I10: 0 | J10: 1383095591663 | K10: 0 | L10: 0.0197
A11: سپرده بانک شهر | D11: 5956519669299 | E11: 0 | F11: 164769782493 | G11: 0 | H11: 164601500000 | I11: 0 | J11: 5956687951792 | K11: 0 | L11: 0.0842
A12: سپرده بانک صادرات | D12: 328337001300 | E12: 0 | F12: 14000000159114 | G12: 0 | H12: 7000000000000 | I12: 0 | J12: 7328337160414 | K12: 0 | L12: 0.1034
A13: سپرده بانک گردشگری | D13: 12691308715380 | E13: 0 | F13: 7596103370993 | G13: 0 | H13: 11015369521301 | I13: 0 | J13: 9272042565072 | K13: 0 | L13: 0.1309 | M13: 0
A14: سپرده موسسه اعتباری ملل | D14: 5487392654654 | E14: 0 | F14: 909375082552 | G14: 0 | H14: 1658702700000 | I14: 0 | J14: 4738065037206 | K14: 0 | L14: 0.0669
A15: سپرده بانک اقتصادنوین | D15: 15477855 | F15: 65374 | H15: 0 | J15: 15543229 | L15: 0
A16: سپرده بانک پاسارگاد | D16: 46964956 | F16: 198596 | H16: 0 | J16: 47163552 | L16: 0
A17: سپرده بانک تجارت | D17: 0 | F17: 5590003076144 | H17: 5589944980616 | J17: 58095528 | L17: 0
A18: سپرده بانک خاورمیانه | D18: 12813470 | F18: 2238938669736 | H18: 2236913688075 | J18: 2037795131 | L18: 0
A19: سپرده بانک سپه | D19: 8783294 | F19: 37299 | H19: 0 | J19: 8820593 | L19: 0
A20: سپرده بانک ملت | D20: 20349547 | F20: 86050 | H20: 0 | J20: 20435597 | L20: 0
A21: جمع | D21: =SUM(D9:D20) -> 26876729931580 | E21: =SUM(E9:E20) -> 0 | F21: =SUM(F9:F20) -> 32086325075189 | G21: =SUM(G9:G20) -> 0 | H21: =SUM(H9:H20) -> 30282637549992 | I21: =SUM(I9:I20) -> 0 | J21: =SUM(J9:J20) -> 28680417456777 | K21: =SUM(K9:K20) -> 0 | L21: =SUM(L9:L20) -> 0.4051

Sheet درآمد
A1: صندوق سرمایه‌گذاری گنجینه یکم آوید
A2: صورت وضعیت درآمدها
A3: برای ماه منتهی به 1405/06/31
A5: -2 | B5: درآمد حاصل از سرمایه گذاری ها
A7: شرح | D7: یادداشت | F7: مبلغ | H7: درصد از کل درآمدها | J7: درصد از کل دارایی ها
A8: درآمد حاصل از سرمایه گذاری در سهام و حق تقدم سهام | D8: 1-2 | F8: ='درآمد سرمایه گذاری در سهام'!U71 -> 816201863235 | H8: =F8/$F$13 -> 0.10316557 | J8: =F8/M8 -> 0.011527679 | M8: 70803661852364
A9: درآمد حاصل از سرمایه گذاری در واحدهای صندوق های سرمایه گذاری | D9: 2-2 | F9: ='درآمد سرمایه گذاری در صندوق'!U23 -> 426813303020 | H9: =F9/$F$13 -> 0.053947975 | J9: =F9/M8 -> 0.0060281247
A10: درآمد حاصل از سرمایه گذاری در اوراق بهادار با درآمد ثابت | D10: 3-2 | F10: ='درآمد سرمایه گذاری در اوراق به'!R36 -> 3346264064655 | H10: =F10/$F$13 -> 0.42295816 | J10: =F10/M8 -> 0.047261172
A11: درآمد حاصل از سرمایه گذاری در سپرده بانکی و گواهی سپرده | D11: 4-2 | F11: ='درآمد سپرده بانکی'!F18 -> 3320086447146 | H11: =F11/$F$13 -> 0.41964938 | J11: =F11/M8 -> 0.046891451
A12: سایر درآمدها | D12: 5-2 | F12: ='سایر درآمدها'!F11 -> 2206641160 | H12: =F12/$F$13 -> 0.0002789131 | J12: =F12/M8 -> 3.1165636e-05
A13: جمع | F13: =SUM(F8:F12) -> 7911572319216 | H13: =SUM(H8:H12) -> 1 | J13: =SUM(J8:J12) -> 0.11173959

Sheet درآمد سرمایه گذاری در سهام
A1: صندوق سرمایه‌گذاری گنجینه یکم آوید
A2: صورت وضعیت درآمدها
A3: برای ماه منتهی به 1405/06/31
A5: -1-2 | B5: درآمد حاصل از سرمایه­گذاری در سهام و حق تقدم سهام
D6: طی ماه | N6: از ابتدای سال مالی
J7: جمع | U7: جمع
A8: سهام | D8: درآمد سود سهام | F8: درآمد تغییر ارزش | H8: درآمد فروش | J8: مبلغ | L8: درصد از کل درآمدها | N8: درآمد سود سهام | P8: درآمد تغییر ارزش | S8: درآمد فروش | U8: مبلغ | W8: درصد از کل درآمدها
A9: ح . پاکسان‌ | D9: 0 | F9: 0 | H9: 161207413 | J9: 161207413 | L9: 0.01 | N9: 0 | P9: 0 | S9: 161207413 | U9: 161207413 | W9: 0
A10: صنعتی معدنی سیمان تجارت مهریز | D10: 0 | F10: 1228679807 | H10: 2260695268 | J10: 3489375075 | L10: 0.18 | N10: 0 | P10: 1228679807 | S10: 2260695268 | U10: 3489375075 | W10: 0.04
A11: پاکسان‌ | D11: 0 | F11: -133489083 | H11: 176130921 | J11: 42641838 | L11: 0 | N11: 0 | P11: 101888470 | S11: 176130921 | U11: 278019391 | W11: 0
A12: پتروشیمی‌شیراز | D12: 0 | F12: -4713716540 | H12: 6390219150 | J12: 1676502610 | L12: 0.09 | N12: 6871521739 | P12: -4177890740 | S12: 6390219150 | U12: 9083850149 | W12: 0.11
A13: گروه صنعتی درپاد تبریز | D13: 0 | F13: 0 | H13: 0 | J13: 0 | L13: 0 | N13: 0 | P13: 0 | S13: -1143376331 | U13: -1143376331 | W13: -0.01
A14: بیمه اتکایی امین | D14: 0 | F14: 0 | H14: 0 | J14: 0 | L14: 0 | N14: 0 | P14: 0 | S14: 8210593 | U14: 8210593 | W14: 0
A15: ح . تامین سرمایه امین | D15: 0 | F15: 0 | H15: 0 | J15: 0 | L15: 0 | N15: 0 | P15: 0 | S15: 10249910391 | U15: 10249910391 | W15: 0.13
A16: نیان باتری خاوران | D16: 0 | F16: 0 | H16: 0 | J16: 0 | L16: 0 | N16: 0 | P16: 0 | S16: 427529483 | U16: 427529483 | W16: 0.01
A17: س. و توسعه صنایع لاستیک | D17: 0 | F17: 0 | H17: 0 | J17: 0 | L17: 0 | N17: 0 | P17: 0 | S17: 398849612 | U17: 398849612 | W17: 0.01
A18: پالایش نفت تهران | D18: 0 | F18: 6251300999 | H18: 0 | J18: 6251300999 | L18: 0.32 | N18: 6454537337 | P18: 22768627415 | S18: 14676765931 | U18: 43899930683 | W18: 0.55
A19: آلیاژ گستر هامون | D19: 0 | F19: 0 | H19: 0 | J19: 0 | L19: 0 | N19: 274412541 | P19: 0 | S19: -187811853 | U19: 86600688 | W19: 0
A20: سرمایه‌گذاری‌صندوق‌بازنشستگی‌ | D20: 0 | F20: 17273436160 | H20: 0 | J20: 17273436160 | L20: 0.88 | N20: 5888000000 | P20: 25271670511 | S20: 0 | U20: 31159670511 | W20: 0.39
... A70: ذوب گران رنگین فلز | D70: 0 | F70: -429201144 | H70: 0 | J70: -429201144 | L70: -0.02 | N70: 0 | P70: -429201144 | S70: 0 | U70: -429201144 | W70: -0.01
A71: جمع | D71: 5099395594 | F71: 237873595643 | H71: 8988252752 | J71: 251961243989 | L71: 12.89 | N71: 86193496581 | Q71: 696590036076 | S71: 33418330578 | U71: 816201863235 | W71: 10.23

Sheet درآمد سرمایه گذاری در صندوق
A1: صندوق سرمایه‌گذاری گنجینه یکم آوید
A2: صورت وضعیت درآمدها
A3: برای ماه منتهی به 1405/06/31
A5: -2-2 | B5: درآمد حاصل از سرمایه­گذاری در واحدهای صندوق
D6: طی ماه | N6: از ابتدای سال مالی
J7: جمع | U7: جمع
A8: صندوق | D8: درآمد سود صندوق | F8: درآمد تغییر ارزش | H8: درآمد فروش | J8: مبلغ | L8: درصد از کل درآمدها | N8: درآمد سود صندوق | P8: درآمد تغییر ارزش | S8: درآمد فروش | U8: مبلغ | W8: درصد از کل درآمدها
A9: صندوق س.پشتوانه طلا زرفام آشنا | D9: 0 | F9: 0 | H9: 0 | J9: 0 | L9: 0 | N9: 0 | P9: 0 | S9: -624099862 | U9: -624099862 | W9: -0.01
A10: صندوق امین آوید | D10: 0 | F10: 0 | H10: 0 | J10: 0 | L10: 0 | N10: 0 | P10: 0 | S10: 502340000 | U10: 502340000 | W10: 0.01
A11: صندوق س.پشتوانه طلا نهایت نگر | D11: 0 | F11: 0 | H11: 0 | J11: 0 | L11: 0 | N11: 0 | P11: 0 | S11: -4893343549 | U11: -4893343549 | W11: -0.06
A12: صندوق پالایشی یکم-سهام | D12: 0 | F12: 8108816727 | H12: 0 | J12: 8108816727 | L12: 0.42 | N12: 0 | P12: 37313246690 | S12: 0 | U12: 37313246690 | W12: 0.47
A13: صندوق سرمایه گذاری طلای نور امین | D13: 0 | F13: 33296340442 | H13: 0 | J13: 33296340442 | L13: 1.71 | N13: 0 | P13: 45809596154 | S13: 0 | U13: 45809596154 | W13: 0.58
A14: صندوق س.بخشی صنایع پاداش-ب | D14: 0 | F14: 17886765600 | H14: 0 | J14: 17886765600 | L14: 0.92 | N14: 0 | P14: 33622090920 | S14: 0 | U14: 33622090920 | W14: 0.42
A15: صندوق س.كالاي زمرد بيدار | D15: 0 | F15: 10872423177 | H15: 0 | J15: 10872423177 | L15: 0.56 | N15: 0 | P15: 24613229754 | S15: 0 | U15: 24613229754 | W15: 0.31
A16: صندوق س.پشتوانه طلای پاداش | D16: 0 | F16: 21144596000 | H16: 0 | J16: 21144596000 | L16: 1.08 | N16: 0 | P16: 44276804000 | S16: 0 | U16: 44276804000 | W16: 0.56
A17: صندوق س.مبتنی بر کالای فارابی | D17: 0 | F17: 6199649540 | H17: 0 | J17: 6199649540 | L17: 0.32 | N17: 0 | P17: 11171637246 | S17: 0 | U17: 11171637246 | W17: 0.14
A18: صندوق س.دی سهام-سهام | D18: 0 | F18: 21897142275 | H18: 0 | J18: 21897142275 | L18: 1.12 | N18: 0 | P18: 46312976224 | S18: 0 | U18: 46312976224 | W18: 0.58
A19: صندوق س. مشترک امین آوید-س | D19: 0 | F19: 45756437584 | H19: 0 | J19: 45756437584 | L19: 2.34 | N19: 0 | P19: 163631922952 | S19: 0 | U19: 163631922952 | W19: 2.06
A20: صندوق س صنایع آروین1-بخشی | D20: 0 | F20: 9409583986 | H20: 0 | J20: 9409583986 | L20: 0.48 | N20: 0 | P20: 23678146835 | S20: 0 | U20: 23678146835 | W20: 0.3
... A22: صندوق س.کالای پاداش1 | D22: 0 | F22: 1147241656 | H22: 0 | J22: 1147241656 | L22: 0.06 | N22: 0 | P22: 1027385656 | S22: 0 | U22: 1027385656 | W22: 0.01
A23: جمع | D23: 0 | F23: 176317616987 | H23: 0 | J23: 176317616987 | L23: 9.04 | N23: 0 | Q23: 431828406431 | S23: -5015103411 | U23: 426813303020 | W23: 5.37

Sheet درآمد سرمایه گذاری در اوراق به
A1: صندوق سرمایه‌گذاری گنجینه یکم آوید
A2: صورت وضعیت درآمدها
A3: برای ماه منتهی به 1405/06/31
A5: -3-2 | B5: درآمد حاصل از سرمایه­گذاری در اوراق بهادار با درآمد ثابت:
D6: طی ماه | L6: از ابتدای سال مالی
A8: عنوان | D8: درآمد سود اوراق | F8: درآمد تغییر ارزش | H8: درآمد فروش | J8: جمع | L8: درآمد سود اوراق | N8: درآمد تغییر ارزش | P8: درآمد فروش | R8: جمع
A9: مرابحه داروسازی داناامین090520 | D9: 96874295304 | F9: 27733957281 | H9: -476250000 | J9: 124132002585 | L9: 123181268104 | N9: -25537244043 | P9: -476250000 | R9: 97167774061
A10: اجاره تامین اجتماعی14050509 | D10: 0 | F10: 0 | H10: 0 | J10: 0 | L10: 751333338247 | N10: 0 | P10: 250151079100 | R10: 1001484417347
A11: مرابحه عام دولت 166-ش.خ050419 | D11: 0 | F11: 0 | H11: 0 | J11: 0 | L11: 26168537661 | N11: 0 | P11: 14928164663 | R11: 41096702324
A12: صکوک اجاره صند502-بدون ضامن | D12: 0 | F12: 0 | H12: 0 | J12: 0 | L12: 84104305419 | N12: 0 | P12: 1076625000 | R12: 85180930419
A13: مرابحه عام دولت162-ش.خ050329 | D13: 0 | F13: 0 | H13: 0 | J13: 0 | L13: 13037526362 | N13: 0 | P13: 7437973255 | R13: 20475499617
A14: شهرداری مشهد | D14: 31548723282 | F14: 0 | H14: 0 | J14: 31548723282 | L14: 31548723282 | N14: 0 | P14: 0 | R14: 31548723282
A15: مرابحه عام دولت298-ش.خ080414 | D15: 94027070280 | F15: 24255204058 | H15: 0 | J15: 118282274338 | L15: 105868131200 | N15: 25185268623 | P15: 0 | R15: 131053399823
A16: صکوک مرابحه دارو904-3ماهه23% | D16: 56939695904 | F16: 0 | H16: 0 | J16: 56939695904 | L16: 117648931560 | N16: -200978749999 | P16: 0 | R16: -83329818439
A17: صکوک مرابحه دابور92-3ماهه23% | D17: 28261466841 | F17: 0 | H17: 0 | J17: 28261466841 | L17: 132691045710 | N17: -100489374999 | P17: 0 | R17: 32201670711
A18: مشارکت ش بجنورد72-3ماهه23% | D18: 14500650138 | F18: -49971613152 | H18: 0 | J18: -35470963014 | L18: 27371931621 | N18: -50477855502 | P18: 0 | R18: -23105923881
A19: صکوک مرابحه دارو901-بدون ضامن | D19: 56938166989 | F19: 0 | H19: 0 | J19: 56938166989 | L19: 319950213634 | N19: -200978749999 | P19: 0 | R19: 118971463635
A20: مرابحه عام دولت274-ش.خ071105 | D20: 46213556587 | F20: 12992071718 | H20: 0 | J20: 59205628305 | L20: 91519082259 | N20: 20723276833 | P20: 0 | R20: 112242359092
... A36: جمع | D36: 815690786118 | F36: -237785142055 | H36: -476250000 | J36: 577429394063 | L36: 4051517961881 | N36: -978371489244 | P36: 273117592018 | R36: 3346264064655

Sheet مبالغ تخصیصی اوراق
A1: صندوق سرمایه‌گذاری گنجینه یکم آوید
A2: صورت وضعیت درآمدها
A3: برای ماه منتهی به 1405/06/31
A5: -1-3-2 | B5: مبالغ تخصیص یافته بابت خرید و نگهداری اوراق بهادار با درآمد ثابت (نرخ سود ترجیحی)
A6: طرف معامله | D6: نوع وابستگی | F6: نام ورقه بهادار | H6: تعداد اوراق | J6: بهای تمام شده اوراق | L6: مبلغ شناسایی شده بابت قرارداد خرید و نگهداری اوراق بهادار | N6: مدت نگهداری ( قرارداد) | P6: نرخ اسمی | R6: میانگین نرخ بازده تا سررسید قراردادهای منعقده
A8: شرکت تامین سرمایه امین | D8: مدیر صندوق | F8: صکوک اجاره تاصیکو810-بدون ضامن | H8: 2000000 | J8: =H8*1000000 -> 2000000000000 | L8: 100140000000 | N8: از 1405/01/01 الی 1405/10/16 | P8: 26 | R8: 0.395
A9: شرکت تامین سرمایه امین | D9: مدیر صندوق | F9: اجاره تامین اجتماعی14050509 | H9: 5420000 | J9: =H9*1000000 -> 5420000000000 | L9: 325557923760 | N9: از 1405/01/01 الی 1405/05/09 | P9: 19 | R9: 0.4
A10: شرکت تامین سرمایه امین | D10: مدیر صندوق | H10: 935000 | J10: =H10*1000000 -> 935000000000 | L10: 17260100000 | N10: از 1405/03/26 الی 1405/05/09 | P10: 19 | R10: 0.39
A11: شرکت تامین سرمایه امین | D11: مدیر صندوق | F11: پارس میکا کیش | H11: 480000 | J11: =H11*1000000 -> 480000000000 | L11: 28035612895 | N11: از 1405/01/01 الی 1405/12/29 | P11: 23 | R11: 0.385
A12: شرکت تامین سرمایه امین | D12: مدیر صندوق | F12: داروسازی شهید قاضی (دقاضی07) | H12: 1000000 | J12: =H12*1000000 -> 1000000000000 | L12: 57947461536 | N12: از 1405/01/01 الی 1405/12/17 | P12: 23 | R12: 0.39
A13: شرکت تامین سرمایه امین | D13: مدیر صندوق | F13: کیش 05 | H13: 800000 | J13: =H13*1000000 -> 800000000000 | L13: 85987096769 | N13: از 1405/01/01 الی 1405/07/24 | P13: 18 | R13: 0.385
A14: شرکت تامین سرمایه امین | D14: مدیر صندوق | F14: صکوک اجاره (صند 502) | H14: 1980000 | J14: =H14*1000000 -> 1980000000000 | L14: 31947978083 | N14: از 1405/01/01 الی 1405/02/10 | P14: 19 | R14: 0.385
A15: سازمان تامین اجتماعی | D15: - | F15: مرابحه عام دولت254 | H15: 2706888 | J15: =H15*1000000 -> 2706888000000 | L15: 113396139694 | N15: از 1405/01/01 الی 1405/01/19 | P15: 23 | R15: 0.3818
A16: شرکت گروه خدمات بازار سرمایه آبان | D16: - | F16: اختیارف.ت.هرمز-2496-060218 | H16: 282167044 | J16: 509574324804 | L16: =19151145900+3830229180 -> 22981375080 | N16: از 1405/01/01 الی 1405/02/18 | P16: - | R16: 0.387
A17: شرکت تامین سرمایه امین | D17: - | F17: صکوک مرابحه دارو901-بدون ضامن | H17: 2000000 | J17: 2000000000000 | L17: =79410608193+16746454789 -> 96157062982 | N17: از 1405/01/09 الی 1406/01/08 | P17: 23 | R17: 0.4
A18: شرکت تامین سرمایه امین | F18: صکوک مرابحه دابور92-3ماهه23% | H18: 1000000 | J18: =H18*1000000 -> 1000000000000 | L18: =32576997243+8937052341 -> 41514049584 | N18: از 1405/02/09 الی 1406/02/09 | P18: 23 | R18: 0.41
A19: شرکت تامین سرمایه امین | F19: صکوک مرابحه دارو904-3ماهه23% | H19: 2000000 | J19: =H19*1000000 -> 2000000000000 | L19: =19439989056+17724695904 -> 37164684960 | N19: از 1405/04/28 لغایت 1406/04/28 | P19: 23 | R19: 0.41
A20: شرکت تامین سرمایه امین | F20: داروسازی داناامین090520 | H20: 4000000 | J20: =H20*1000000 -> 4000000000000 | L20: =12578213703+126427932091 -> 139006145794 | N20: از 1405/05/20 لغایت 1406/05/20 | P20: 23 | R20: 0.41
A21: شرکت تامین سرمایه امین | F21: اوراق مشارکت ش بجنورد72-3ماهه23% | H21: 499988 | J21: =H21*1000000 -> 499988000000 | L21: =3999953300+4428519725 -> 8428473025 | N21: از 1405/05/03 لغایت 1406/05/03 | P21: 23 | R21: 0.41
A22: شرکت تامین سرمایه امین | F22: اوراق مشارکت صکوک اجاره فارس086-بدون ضامن | H22: 500000 | J22: =H22*1000000 -> 500000000000 | L22: 126732877 | N22: از 1405/06/31 لغایت 1406/06/31 | P22: 23 | R22: 0.39
A23: شرکت تامین سرمایه امین | F23: شهرداری مشهد | H23: 5500000 | J23: =H23*1000000 -> 5500000000000 | L23: 10754202738 | N23: از 1405/06/25 لغایت 1406/06/25 | P23: 23 | R23: 0.435
A24: شرکت تامین سرمایه امین | F24: تبعی دقاضی | H24: 45953770 | J24: =H24*1000000 -> 45953770000000 | L24: 4037360368 | N24: از 1405/06/17 لغایت 1406/06/17 | P24: 23 | R24: 0.41
J25: =SUM(J8:J24) -> 77285220324804 | L25: =SUM(L8:L24) -> 1120442400145

Sheet درآمد سپرده بانکی
A1: صندوق سرمایه‌گذاری گنجینه یکم آوید
A2: صورت وضعیت درآمدها
A3: برای ماه منتهی به 1405/06/31
A5: -4-2 | B5: درآمد حاصل از سرمایه­گذاری در سپرده بانکی و گواهی سپرده
D6: طی ماه | F6: از ابتدای سال مالی
A7: نام سپرده بانکی | D7: سود سپرده بانکی و گواهی سپرده | F7: سود سپرده بانکی و گواهی سپرده
A8: سپرده بانک پاسارگاد | D8: 198596 | E8: 0 | F8: 6696431908 | G8: 0 | H8: 0
A9: سپرده بانک دی | D9: 61873788673 | E9: 0 | F9: 509633835880 | G9: 0
A10: سپرده بانک شهر | D10: 167956982360 | E10: 0 | F10: 839932331000
A11: سپرده بانک صادرات | D11: 192171227569 | E11: 0 | F11: 244143124977
A12: سپرده بانک گردشگری | D12: 363308404528 | E12: 0 | F12: 1381435008251
A13: سپرده بانک ملت | D13: 86050 | E13: 0 | F13: 26551299190 | G13: 0
A14: سپرده موسسه اعتباری ملل | D14: 152101195485 | E14: 0 | F14: 311686013279
A15: سپرده بانک اقتصادنوین | D15: 65374 | F15: 416713
A16: سپرده بانک خاورمیانه | D16: 54413 | F16: 7747204
A17: سپرده بانک سپه | D17: 37299 | F17: 238744
A18: جمع | D18: =SUM(D8:D17) -> 937412040347 | E18: =SUM(E8:E17) -> 0 | F18: =SUM(F8:F17) -> 3320086447146

Sheet سایر درآمدها
A1: صندوق سرمایه‌گذاری گنجینه یکم آوید
A2: صورت وضعیت درآمدها
A3: برای ماه منتهی به 1405/06/31
A5: -5-2 | B5: سایر درآمدها
D6: طی ماه | F6: 1405/06/31
A7: سایر درآمدها | D7: مبلغ | F7: مبلغ
A8: سایر درآمدها | D8: 0 | F8: 453499002
A9: معین برای سایر درآمدهای تنزیل سود بانک | D9: 0 | F9: 1753142158
A10: تعدیل کارمزد کارگزار | D10: -536133043 | F10: 0
A11: جمع | D11: -536133043 | F11: 2206641160

Sheet درآمد سود سهام
A1: صندوق سرمایه‌گذاری گنجینه یکم آوید
A2: صورت وضعیت درآمدها
A3: برای ماه منتهی به 1405/06/31
A5: درآمد سود سهام
A6: نام سهام | C6: اطلاعات مجمع | I6: طی ماه | O6: از ابتدای سال مالی
C7: تاریخ تشکیل مجمع | E7: تعداد سهام متعلقه در زمان مجمع | G7: سود متعلق به هر سهم | I7: جمع درآمد سود سهام | K7: هزینه تنزیل | M7: خالص درآمد سود سهام | O7: جمع درآمد سود سهام | Q7: هزینه تنزیل | S7: خالص درآمد سود سهام
A8: سرمایه‌گذاری‌صندوق‌بازنشستگی‌ | C8: 1405/04/30 | E8: 3200000 | G8: 1840 | I8: 0 | K8: 0 | M8: 0 | O8: 5888000000 | Q8: 0 | S8: 5888000000
A9: ملی‌ صنایع‌ مس‌ ایران‌ | C9: 1405/04/31 | E9: 6522863 | G9: 450 | I9: 0 | K9: 0 | M9: 0 | O9: 2935288350 | Q9: 0 | S9: 2935288350
A10: پتروشیمی‌شیراز | C10: 1405/03/27 | E10: 1000000 | G10: 6928 | I10: 0 | K10: 0 | M10: 0 | O10: 6928000000 | Q10: 56478261 | S10: 6871521739
A11: پالایش نفت اصفهان | C11: 1405/04/30 | E11: 5238672 | G11: 740 | I11: 0 | K11: 0 | M11: 0 | O11: 3876617280 | Q11: 0 | S11: 3876617280
A12: بانک ملت | C12: 1405/04/31 | E12: 112475463 | G12: 46 | I12: 0 | K12: 0 | M12: 0 | O12: 5173871298 | Q12: 0 | S12: 5173871298
A13: پالایش نفت بندرعباس | C13: 1405/05/18 | E13: 6700000 | G13: 1189 | I13: 0 | K13: 0 | M13: 0 | O13: 7966300000 | Q13: 955571851 | S13: 7010728149
A14: صنایع پتروشیمی خلیج فارس | C14: 1405/06/25 | E14: 3000000 | G14: 600 | I14: 1800000000 | K14: 18305085 | M14: 1781694915 | O14: 1800000000 | Q14: 18305085 | S14: 1781694915
A15: س. نفت و گاز و پتروشیمی تأمین | C15: 1405/06/23 | E15: 800000 | G15: 3100 | I15: 2480000000 | K15: 41750842 | M15: 2438249158 | O15: 2480000000 | Q15: 41750842 | S15: 2438249158
A16: پخش البرز | C16: 1405/03/31 | E16: 3751000 | G16: 487 | I16: 0 | K16: 0 | M16: 0 | O16: 1826737000 | Q16: 24685635 | S16: 1802051365
A17: فولاد هرمزگان جنوب | C17: 1405/03/27 | E17: 303003995 | G17: 93 | I17: 0 | K17: 0 | M17: 0 | O17: 28179371535 | Q17: 0 | S17: 28179371535
A18: پالایش نفت تهران | C18: 1405/05/06 | E18: 13760101 | G18: 480 | I18: 0 | K18: 0 | M18: 0 | O18: 6604848480 | Q18: 150311143 | S18: 6454537337
A19: پتروشیمی نوری | C19: 1405/05/18 | E19: 587904 | G19: 3850 | I19: 0 | K19: 0 | M19: 0 | O19: 2263430400 | Q19: 0 | S19: 2263430400
... A24: گروه پتروشیمی تابان فردا | C24: 1405/06/31 | E24: 200000 | G24: 610 | I24: 122000000 | K24: 2376091 | M24: 119623909 | O24: 122000000 | Q24: 2376091 | S24: 119623909
A25: جمع | I25: 5208666300 | K25: 109270706 | M25: 5099395594 | O25: 87713647043 | Q25: 1520150462 | S25: 86193496581

Sheet سود اوراق بهادار
A1: صندوق سرمایه‌گذاری گنجینه یکم آوید
A2: صورت وضعیت درآمدها
A3: برای ماه منتهی به 1405/06/31
A5: سود اوراق بهادار با درآمد ثابت
A6: شرح | J6: طی ماه | P6: از ابتدای سال مالی
C7: تاریخ دریافت سود | E7: تاریخ سررسید | H7: نرخ سود علی الحساب | J7: درآمد سود | L7: هزینه تنزیل | N7: خالص درآمد | P7: درآمد سود | R7: هزینه تنزیل | T7: خالص درآمد
A8: شهرداری مشهد | E8: 1409/02/31 | H8: 23 | J8: 31548723282 | L8: 0 | N8: 31548723282 | P8: 31548723282 | R8: 0 | T8: 31548723282
A9: مرابحه داروسازی داناامین090520 | E9: 1409/05/20 | H9: 23 | J9: 96874295304 | L9: 0 | N9: 96874295304 | P9: 123181268104 | R9: 0 | T9: 123181268104
A10: مرابحه عام دولت298-ش.خ080414 | E10: 1408/04/14 | H10: 23 | J10: 94027070280 | L10: 0 | N10: 94027070280 | P10: 105868131200 | R10: 0 | T10: 105868131200
A11: صکوک مرابحه دارو904-3ماهه23% | E11: 1409/04/28 | H11: 23 | J11: 56939695904 | L11: 0 | N11: 56939695904 | P11: 117648931560 | R11: 0 | T11: 117648931560
A12: صکوک مرابحه دابور92-3ماهه23% | E12: 1409/02/09 | H12: 23 | J12: 28261466841 | L12: 0 | N12: 28261466841 | P12: 132691045710 | R12: 0 | T12: 132691045710
A13: مشارکت ش بجنورد72-3ماهه23% | E13: 1407/12/28 | H13: 23 | J13: 14500650138 | L13: 0 | N13: 14500650138 | P13: 27371931621 | R13: 0 | T13: 27371931621
A14: صکوک مرابحه دارو901-بدون ضامن | E14: 1409/01/08 | H14: 23 | J14: 56938166989 | L14: 0 | N14: 56938166989 | P14: 319950213634 | R14: 0 | T14: 319950213634
A15: مرابحه عام دولت274-ش.خ071105 | E15: 1407/11/05 | H15: 23 | J15: 46213556587 | L15: 0 | N15: 46213556587 | P15: 91519082259 | R15: 0 | T15: 91519082259
A16: مرابحه عام دولت271-ش.خ070628 | E16: 1407/06/28 | H16: 23 | J16: 24897482155 | L16: 0 | N16: 24897482155 | P16: 51573657150 | R16: 0 | T16: 51573657150
A17: مرابحه عام دولت265-ش.خ070430 | E17: 1407/04/30 | H17: 23 | J17: 39432720982 | L17: 0 | N17: 39432720982 | P17: 250302959573 | R17: 0 | T17: 250302959573
A18: صکوک اجاره تاصیکو810-بدون ضامن | E18: 1408/10/16 | H18: 26 | J18: 58872325676 | L18: 0 | N18: 58872325676 | P18: 364962426400 | R18: 0 | T18: 364962426400
A19: مرابحه عام دولت254-ش.خ070911 | E19: 1407/09/11 | H19: 23 | J19: 53242533400 | L19: 0 | N19: 53242533400 | P19: 430650099039 | R19: 0 | T19: 430650099039
... A33: صکوک اجاره صند502-بدون ضامن | E33: 1405/02/10 | H33: 19 | J33: 0 | L33: 0 | N33: 0 | P33: 84104305419 | R33: 0 | T33: 84104305419
A34: جمع | J34: =SUM(J8:J33) -> 815690786118 | L34: 0 | N34: =SUM(N8:N33) -> 815690786118 | P34: =SUM(P8:P33) -> 4051517961881 | R34: 0 | T34: =SUM(T8:T33) -> 4051517961881

Sheet سود سپرده بانکی
A1: صندوق سرمایه‌گذاری گنجینه یکم آوید
A2: صورت وضعیت درآمدها
A3: برای ماه منتهی به 1405/06/31
A5: سود سپرده بانکی
A6: شرح | C6: طی ماه | I6: از ابتدای سال مالی
C7: درآمد سود | E7: هزینه تنزیل | G7: خالص درآمد | I7: درآمد سود | K7: هزینه تنزیل | M7: خالص درآمد
A8: سپرده بانک پاسارگاد | C8: 198596 | E8: 0 | G8: 198596 | I8: 6696431908 | K8: 0 | M8: 6696431908
A9: سپرده بانک دی | C9: 61873788673 | E9: -79162521 | G9: 61952951194 | I9: 509633835880 | K9: 494469509 | M9: 509139366371
A10: سپرده بانک شهر | C10: 167956982360 | E10: 11554130 | G10: 167945428230 | I10: 839932331000 | K10: 740052725 | M10: 839192278275
A11: سپرده بانک صادرات | C11: 192171227569 | E11: 0 | G11: 192171227569 | I11: 244143124977 | K11: 0 | M11: 244143124977
A12: سپرده بانک گردشگری | C12: 363308404528 | E12: -214839245 | G12: 363523243773 | I12: 1381435008251 | K12: 1407770472 | M12: 1380027237779
A13: سپرده بانک ملت | C13: 86050 | E13: 0 | G13: 86050 | I13: 26551299190 | K13: 0 | M13: 26551299190
A14: سپرده موسسه اعتباری ملل | C14: 152101195485 | E14: -149576334 | G14: 152250771819 | I14: 311686013279 | K14: 829538500 | M14: 310856474779
A15: سپرده بانک اقتصادنوین | C15: 65374 | E15: 0 | G15: 65374 | I15: 416713 | K15: 0 | M15: 416713
A16: سپرده بانک خاورمیانه | C16: 54413 | E16: 0 | G16: 54413 | I16: 7747204 | K16: 0 | M16: 7747204
A17: سپرده بانک سپه | C17: 37299 | E17: 0 | G17: 37299 | I17: 238744 | K17: 0 | M17: 238744
A18: جمع | C18: 937412040347 | E18: -432023970 | G18: 937844064317 | I18: 3320086447146 | K18: 3471831206 | M18: 3316614615940

Sheet درآمد ناشی از فروش
A1: صندوق سرمایه‌گذاری گنجینه یکم آوید
A2: صورت وضعیت درآمدها
A3: برای ماه منتهی به 1405/06/31
A5: سود(زیان) حاصل از فروش اوراق بهادار
A6: شرح | C6: طی ماه | K6: از ابتدای سال مالی
C7: تعداد | E7: خالص بهای فروش | G7: ارزش دفتری | I7: سود و زیان ناشی از فروش | K7: تعداد | M7: خالص بهای فروش | O7: ارزش دفتری | Q7: سود و زیان ناشی از فروش
A8: ح . پاکسان‌ | C8: 1021348 | E8: 1463426113 | G8: 1302218700 | I8: 161207413 | K8: 1021348 | M8: 1463426113 | O8: 1302218700 | Q8: 161207413
A9: صنعتی معدنی سیمان تجارت مهریز | C9: 460000 | E9: 13104350291 | G9: 10843655023 | I9: 2260695268 | K9: 460000 | M9: 13104350291 | O9: 10843655023 | Q9: 2260695268
A10: پاکسان‌ | C10: 1800000 | E10: 4273157169 | G10: 4097026248 | I10: 176130921 | K10: 1800000 | M10: 4273157169 | O10: 4097026248 | Q10: 176130921
A11: پتروشیمی‌شیراز | C11: 1000000 | E11: 66650776250 | G11: 60260557100 | I11: 6390219150 | K11: 1000000 | M11: 66650776250 | O11: 60260557100 | Q11: 6390219150
A12: گروه صنعتی درپاد تبریز | C12: 0 | E12: 0 | G12: 0 | I12: 0 | K12: 750000 | M12: 6172134244 | O12: 7315510575 | Q12: -1143376331
A13: صندوق س.پشتوانه طلا زرفام آشنا | C13: 0 | E13: 0 | G13: 0 | I13: 0 | K13: 1079850 | M13: 139534015829 | O13: 140158115691 | Q13: -624099862
A14: بیمه اتکایی امین | C14: 0 | E14: 0 | G14: 0 | I14: 0 | K14: 30097 | M14: 63728420 | O14: 55517827 | Q14: 8210593
A15: ح . تامین سرمایه امین | C15: 0 | E15: 0 | G15: 0 | I15: 0 | K15: 4588505 | M15: 13091004765 | O15: 2841094374 | Q15: 10249910391
A16: نیان باتری خاوران | C16: 0 | E16: 0 | G16: 0 | I16: 0 | K16: 258000 | M16: 4390497099 | O16: 3962967616 | Q16: 427529483
A17: صندوق امین آوید | C17: 0 | E17: 0 | G17: 0 | I17: 0 | K17: 12880000 | M17: 124910240000 | O17: 124407900000 | Q17: 502340000
A18: س. و توسعه صنایع لاستیک | C18: 0 | E18: 0 | G18: 0 | I18: 0 | K18: 563000 | M18: 5035628095 | O18: 4636778483 | Q18: 398849612
A19: پالایش نفت تهران | C19: 0 | E19: 0 | G19: 0 | I19: 0 | K19: 6760101 | M19: 35417423962 | O19: 20740658031 | Q19: 14676765931
... A27: جمع | C27: 5281348 | E27: 1085015459823 | G27: 1076503457071 | I27: 8512002752 | K27: 43915901 | M27: 10391165306287 | O27: 10089644487102 | Q27: 301520819185

Sheet درآمد ناشی از تغییر قیمت اوراق
A1: صندوق سرمایه‌گذاری گنجینه یکم آوید
A2: صورت وضعیت درآمدها
A3: برای ماه منتهی به 1405/06/31
A5: درآمد ناشی از تغییر قیمت اوراق بهادار
A6: شرح | C6: طی ماه | K6: از ابتدای سال مالی
C7: تعداد | E7: خالص ارزش فروش | G7: ارزش دفتری | I7: سود و زیان ناشی از تغییر قیمت | K7: تعداد | M7: خالص ارزش فروش | O7: ارزش دفتری | Q7: سود و زیان ناشی از تغییر قیمت
A8: سرمایه‌گذاری‌صندوق‌بازنشستگی‌ | C8: 3200000 | E8: 75253756800 | G8: 57980320640 | I8: 17273436160 | K8: 3200000 | M8: 75253756800 | O8: 49982086289 | Q8: 25271670511
A9: سرمایه‌گذاری‌غدیر(هلدینگ‌ | C9: 4500000 | E9: 91179690300 | G9: 84705128550 | I9: 6474561749 | K9: 4500000 | M9: 91179690300 | O9: 60637619700 | Q9: 30542070600
A10: ملی‌ صنایع‌ مس‌ ایران‌ | C10: 10896878 | E10: 261233506414 | G10: 220820243316 | I10: 40413263098 | K10: 10896878 | M10: 261233506414 | O10: 138620233196 | Q10: 122613273218
A11: پتروشیمی‌شیراز | C11: 1080902 | E11: 75099714860 | G11: 79813431401 | I11: -4713716540 | K11: 1080902 | M11: 75099714860 | O11: 79277605601 | Q11: -4177890740
A12: پالایش نفت اصفهان | C12: 8635030 | E12: 106075321480 | G12: 107543901802 | I12: -1468580321 | K12: 8635030 | M12: 106075321480 | O12: 75655394290 | Q12: 30419927190
A13: بانک ملت | C13: 151170438 | E13: 215852720450 | G13: 212650054018 | I13: 3202666432 | K13: 151170438 | M13: 215852720450 | O13: 157293464293 | Q13: 58559256157
A14: پالایش نفت بندرعباس | C14: 8676789 | E14: 126476748914 | G14: 110079592555 | I14: 16397156359 | K14: 8676789 | M14: 126476748914 | O14: 76107244565 | Q14: 50369504349
A15: پتروشیمی پردیس | C15: 3499797 | E15: 46638946134 | G15: 42875921437 | I15: 3763024697 | K15: 3499797 | M15: 46638946134 | O15: 46018066225 | Q15: 620879909
A16: پاکسان‌ | C16: 434831 | E16: 1091618483 | G16: 1225107567 | I16: -133489083 | K16: 434831 | M16: 1091618483 | O16: 989730013 | Q16: 101888470
A17: فولاد آلیاژی ایران | C17: 5400000 | E17: 33167617020 | G17: 27595028700 | I17: 5572588319 | K17: 5400000 | M17: 33167617020 | O17: 26097338434 | Q17: 7070278585
A18: صنایع پتروشیمی خلیج فارس | C18: 3000000 | E18: 37031516400 | G18: 28547607900 | I18: 8483908500 | K18: 3000000 | M18: 37031516400 | O18: 25005204000 | Q18: 12026312400
A19: س. نفت و گاز و پتروشیمی تأمین | C19: 800000 | E19: 36952134800 | G19: 30037997440 | I19: 6914137359 | K19: 800000 | M19: 36952134800 | O19: 15058689520 | Q19: 21893445280
... A98: جمع | C98: 1166363114 | E98: 34462659768676 | G98: 34286253698104 | I98: 176406070575 | K98: 1166363114 | M98: 34462659768676 | O98: 34312612815425 | Q98: 150046953263
